Package: motifcounter Version: 1.30.0 Command: /home/biocbuild/R/R/bin/R CMD check --install=check:motifcounter.install-out.txt --library=/home/biocbuild/R/R/site-library --no-vignettes --timings motifcounter_1.30.0.tar.gz StartedAt: 2025-02-04 09:00:50 -0000 (Tue, 04 Feb 2025) EndedAt: 2025-02-04 09:04:38 -0000 (Tue, 04 Feb 2025) EllapsedTime: 227.3 seconds RetCode: 1 Status: ERROR CheckDir: motifcounter.Rcheck Warnings: NA