Package: mpra Version: 1.28.0 Command: rm -rf mpra.buildbin-libdir && mkdir mpra.buildbin-libdir && /Users/biocbuild/BBS/utils/build-universal.sh mpra_1.28.0.tar.gz /Library/Frameworks/R.framework/Resources/bin/R mpra.buildbin-libdir StartedAt: 2025-02-04 13:31:08 -0500 (Tue, 04 Feb 2025) EndedAt: 2025-02-04 13:32:34 -0500 (Tue, 04 Feb 2025) EllapsedTime: 86.4 seconds RetCode: 0 Status: OK PackageFile: mpra_1.28.0.tgz PackageFileSize: 3.512 MiB