Package: mpra Version: 1.28.0 Command: chmod a+r mpra -R && F:\biocbuild\bbs-3.20-bioc\R\bin\R.exe CMD build --keep-empty-dirs --no-resave-data mpra StartedAt: 2025-02-03 20:33:48 -0500 (Mon, 03 Feb 2025) EndedAt: 2025-02-03 20:34:53 -0500 (Mon, 03 Feb 2025) EllapsedTime: 64.8 seconds RetCode: 0 Status: OK PackageFile: mpra_1.28.0.tar.gz PackageFileSize: 2.955 MiB