Package: mpra Version: 1.28.0 Command: F:\biocbuild\bbs-3.20-bioc\R\bin\R.exe CMD check --no-multiarch --install=check:mpra.install-out.txt --library=F:\biocbuild\bbs-3.20-bioc\R\library --no-vignettes --timings mpra_1.28.0.tar.gz StartedAt: 2025-02-04 04:00:46 -0500 (Tue, 04 Feb 2025) EndedAt: 2025-02-04 04:04:14 -0500 (Tue, 04 Feb 2025) EllapsedTime: 207.6 seconds RetCode: 0 Status: OK CheckDir: mpra.Rcheck Warnings: 0