Package: mpra Version: 1.28.0 Command: /home/biocbuild/R/R/bin/R CMD build --keep-empty-dirs --no-resave-data mpra StartedAt: 2025-02-04 01:10:40 -0000 (Tue, 04 Feb 2025) EndedAt: 2025-02-04 01:11:46 -0000 (Tue, 04 Feb 2025) EllapsedTime: 66.0 seconds RetCode: 0 Status: OK PackageFile: mpra_1.28.0.tar.gz PackageFileSize: 2.99 MiB