Package: msImpute Version: 1.16.0 Command: /Library/Frameworks/R.framework/Resources/bin/R CMD check --install=check:msImpute.install-out.txt --library=/Library/Frameworks/R.framework/Resources/library --no-vignettes --timings msImpute_1.16.0.tar.gz StartedAt: 2025-02-05 03:00:43 -0500 (Wed, 05 Feb 2025) EndedAt: 2025-02-05 03:04:19 -0500 (Wed, 05 Feb 2025) EllapsedTime: 215.9 seconds RetCode: 0 Status: OK CheckDir: msImpute.Rcheck Warnings: 0