Package: msImpute Version: 1.16.0 Command: /Library/Frameworks/R.framework/Resources/bin/R CMD build --keep-empty-dirs --no-resave-data msImpute StartedAt: 2024-11-19 17:45:46 -0500 (Tue, 19 Nov 2024) EndedAt: 2024-11-19 17:47:30 -0500 (Tue, 19 Nov 2024) EllapsedTime: 104.1 seconds RetCode: 0 Status: OK PackageFile: msImpute_1.16.0.tar.gz PackageFileSize: 1.901 MiB