Package: msImpute Version: 1.16.0 Command: chmod a+r msImpute -R && F:\biocbuild\bbs-3.20-bioc\R\bin\R.exe CMD build --keep-empty-dirs --no-resave-data msImpute StartedAt: 2025-02-03 20:35:58 -0500 (Mon, 03 Feb 2025) EndedAt: 2025-02-03 20:37:46 -0500 (Mon, 03 Feb 2025) EllapsedTime: 108.2 seconds RetCode: 0 Status: OK PackageFile: msImpute_1.16.0.tar.gz PackageFileSize: 1.601 MiB