Package: msImpute Version: 1.16.0 Command: /home/biocbuild/bbs-3.20-bioc/R/bin/R CMD build --keep-empty-dirs --no-resave-data msImpute StartedAt: 2024-11-19 20:18:32 -0500 (Tue, 19 Nov 2024) EndedAt: 2024-11-19 20:19:49 -0500 (Tue, 19 Nov 2024) EllapsedTime: 77.0 seconds RetCode: 0 Status: OK PackageFile: msImpute_1.16.0.tar.gz PackageFileSize: 1.77 <A href="http://en.wikipedia.org/wiki/MiB" target="_blank">MiB</A>