Package: msPurity Version: 1.32.0 Command: rm -rf msPurity.buildbin-libdir && mkdir msPurity.buildbin-libdir && /Users/biocbuild/BBS/utils/build-universal.sh msPurity_1.32.0.tar.gz /Library/Frameworks/R.framework/Resources/bin/R msPurity.buildbin-libdir StartedAt: 2025-02-01 15:54:22 -0500 (Sat, 01 Feb 2025) EndedAt: 2025-02-01 15:54:40 -0500 (Sat, 01 Feb 2025) EllapsedTime: 18.1 seconds RetCode: 0 Status: OK PackageFile: msPurity_1.32.0.tgz PackageFileSize: 11.41 MiB