Package: msPurity Version: 1.32.0 Command: /Library/Frameworks/R.framework/Resources/bin/R CMD build --keep-empty-dirs --no-resave-data msPurity StartedAt: 2025-01-31 04:05:43 -0500 (Fri, 31 Jan 2025) EndedAt: 2025-01-31 04:15:11 -0500 (Fri, 31 Jan 2025) EllapsedTime: 567.8 seconds RetCode: 0 Status: OK PackageFile: msPurity_1.32.0.tar.gz PackageFileSize: 11.28 MiB