Package: msPurity Version: 1.32.0 Command: /Library/Frameworks/R.framework/Resources/bin/R CMD check --install=check:msPurity.install-out.txt --library=/Library/Frameworks/R.framework/Resources/library --no-vignettes --timings msPurity_1.32.0.tar.gz StartedAt: 2025-02-01 02:24:19 -0500 (Sat, 01 Feb 2025) EndedAt: 2025-02-01 02:37:18 -0500 (Sat, 01 Feb 2025) EllapsedTime: 779.7 seconds RetCode: 0 Status: OK CheckDir: msPurity.Rcheck Warnings: 0