Package: msPurity Version: 1.32.0 Command: /home/biocbuild/R/R/bin/R CMD build --keep-empty-dirs --no-resave-data msPurity StartedAt: 2025-01-31 01:11:14 -0000 (Fri, 31 Jan 2025) EndedAt: 2025-01-31 01:22:33 -0000 (Fri, 31 Jan 2025) EllapsedTime: 679.3 seconds RetCode: 0 Status: OK PackageFile: msPurity_1.32.0.tar.gz PackageFileSize: 11.48 MiB