Package: msa Version: 1.38.0 Command: rm -rf msa.buildbin-libdir && mkdir msa.buildbin-libdir && /Users/biocbuild/BBS/utils/build-universal.sh msa_1.38.0.tar.gz /Library/Frameworks/R.framework/Resources/bin/R msa.buildbin-libdir StartedAt: 2025-02-01 15:52:04 -0500 (Sat, 01 Feb 2025) EndedAt: 2025-02-01 15:57:59 -0500 (Sat, 01 Feb 2025) EllapsedTime: 355.5 seconds RetCode: 0 Status: OK PackageFile: msa_1.38.0.tgz PackageFileSize: 1.695 MiB