Package: msa Version: 1.38.0 Command: /Library/Frameworks/R.framework/Resources/bin/R CMD build --keep-empty-dirs --no-resave-data msa StartedAt: 2024-11-08 18:16:06 -0500 (Fri, 08 Nov 2024) EndedAt: 2024-11-08 18:17:56 -0500 (Fri, 08 Nov 2024) EllapsedTime: 110.2 seconds RetCode: 0 Status: OK PackageFile: msa_1.38.0.tar.gz PackageFileSize: 3.893 MiB