Package: msa Version: 1.38.0 Command: /Library/Frameworks/R.framework/Resources/bin/R CMD build --keep-empty-dirs --no-resave-data msa StartedAt: 2025-01-30 21:03:04 -0500 (Thu, 30 Jan 2025) EndedAt: 2025-01-30 21:22:35 -0500 (Thu, 30 Jan 2025) EllapsedTime: 1171.3 seconds RetCode: 0 Status: OK PackageFile: msa_1.38.0.tar.gz PackageFileSize: 3.893 MiB