Package: msa Version: 1.38.0 Command: /home/biocbuild/bbs-3.20-bioc/R/bin/R CMD check --install=check:msa.install-out.txt --library=/home/biocbuild/bbs-3.20-bioc/R/site-library --timings msa_1.38.0.tar.gz StartedAt: 2025-01-31 00:14:28 -0500 (Fri, 31 Jan 2025) EndedAt: 2025-01-31 00:16:01 -0500 (Fri, 31 Jan 2025) EllapsedTime: 93.0 seconds RetCode: 0 Status: WARNINGS CheckDir: msa.Rcheck Warnings: 2