Package: msa Version: 1.38.0 Command: F:\biocbuild\bbs-3.20-bioc\R\bin\R.exe CMD check --no-multiarch --install=check:msa.install-out.txt --library=F:\biocbuild\bbs-3.20-bioc\R\library --no-vignettes --timings msa_1.38.0.tar.gz StartedAt: 2025-01-31 04:13:01 -0500 (Fri, 31 Jan 2025) EndedAt: 2025-01-31 04:15:25 -0500 (Fri, 31 Jan 2025) EllapsedTime: 143.8 seconds RetCode: 0 Status: WARNINGS CheckDir: msa.Rcheck Warnings: 1