Package: msa Version: 1.38.0 Command: /home/biocbuild/R/R/bin/R CMD build --keep-empty-dirs --no-resave-data msa StartedAt: 2025-01-31 01:08:34 -0000 (Fri, 31 Jan 2025) EndedAt: 2025-01-31 01:15:14 -0000 (Fri, 31 Jan 2025) EllapsedTime: 400.2 seconds RetCode: 0 Status: OK PackageFile: msa_1.38.0.tar.gz PackageFileSize: 3.882 MiB