Package: msgbsR Version: 1.30.0 Command: /Library/Frameworks/R.framework/Resources/bin/R CMD check --install=check:msgbsR.install-out.txt --library=/Library/Frameworks/R.framework/Resources/library --no-vignettes --timings msgbsR_1.30.0.tar.gz StartedAt: 2025-02-01 02:19:01 -0500 (Sat, 01 Feb 2025) EndedAt: 2025-02-01 02:26:28 -0500 (Sat, 01 Feb 2025) EllapsedTime: 446.8 seconds RetCode: 0 Status: OK CheckDir: msgbsR.Rcheck Warnings: 0