Package: msgbsR Version: 1.30.0 Command: /Library/Frameworks/R.framework/Resources/bin/R CMD INSTALL msgbsR StartedAt: 2025-01-30 17:01:55 -0500 (Thu, 30 Jan 2025) EndedAt: 2025-01-30 17:03:03 -0500 (Thu, 30 Jan 2025) EllapsedTime: 67.8 seconds RetCode: 0 Status: OK