Package: msgbsR Version: 1.30.0 Command: /Library/Frameworks/R.framework/Resources/bin/R CMD check --install=check:msgbsR.install-out.txt --library=/Library/Frameworks/R.framework/Resources/library --no-vignettes --timings msgbsR_1.30.0.tar.gz StartedAt: 2024-11-09 07:54:46 -0500 (Sat, 09 Nov 2024) EndedAt: 2024-11-09 08:00:41 -0500 (Sat, 09 Nov 2024) EllapsedTime: 355.4 seconds RetCode: 0 Status: OK CheckDir: msgbsR.Rcheck Warnings: 0