Package: msgbsR Version: 1.30.0 Command: /home/biocbuild/R/R/bin/R CMD check --install=check:msgbsR.install-out.txt --library=/home/biocbuild/R/R/site-library --no-vignettes --timings msgbsR_1.30.0.tar.gz StartedAt: 2024-11-20 10:12:42 -0000 (Wed, 20 Nov 2024) EndedAt: 2024-11-20 10:21:26 -0000 (Wed, 20 Nov 2024) EllapsedTime: 523.9 seconds RetCode: 0 Status: OK CheckDir: msgbsR.Rcheck Warnings: 0