Package: msgbsR Version: 1.30.0 Command: /Library/Frameworks/R.framework/Resources/bin/R CMD build --keep-empty-dirs --no-resave-data msgbsR StartedAt: 2025-01-30 21:05:13 -0500 (Thu, 30 Jan 2025) EndedAt: 2025-01-30 21:10:44 -0500 (Thu, 30 Jan 2025) EllapsedTime: 331.3 seconds RetCode: 0 Status: OK PackageFile: msgbsR_1.30.0.tar.gz PackageFileSize: 15.25 MiB