Package: msgbsR Version: 1.30.0 Command: /Library/Frameworks/R.framework/Resources/bin/R CMD check --install=check:msgbsR.install-out.txt --library=/Library/Frameworks/R.framework/Resources/library --no-vignettes --timings msgbsR_1.30.0.tar.gz StartedAt: 2025-01-31 06:57:22 -0500 (Fri, 31 Jan 2025) EndedAt: 2025-01-31 07:10:48 -0500 (Fri, 31 Jan 2025) EllapsedTime: 805.9 seconds RetCode: 0 Status: OK CheckDir: msgbsR.Rcheck Warnings: 0