Package: msgbsR Version: 1.30.0 Command: /Library/Frameworks/R.framework/Resources/bin/R CMD INSTALL msgbsR StartedAt: 2025-01-30 16:08:02 -0500 (Thu, 30 Jan 2025) EndedAt: 2025-01-30 16:10:04 -0500 (Thu, 30 Jan 2025) EllapsedTime: 121.3 seconds RetCode: 0 Status: OK