Package: msgbsR Version: 1.30.0 Command: F:\biocbuild\bbs-3.20-bioc\R\bin\R.exe CMD INSTALL msgbsR StartedAt: 2025-01-30 16:40:11 -0500 (Thu, 30 Jan 2025) EndedAt: 2025-01-30 16:41:14 -0500 (Thu, 30 Jan 2025) EllapsedTime: 62.7 seconds RetCode: 0 Status: OK