Package: mslp Version: 1.8.0 Command: /Library/Frameworks/R.framework/Resources/bin/R CMD check --install=check:mslp.install-out.txt --library=/Library/Frameworks/R.framework/Resources/library --no-vignettes --timings mslp_1.8.0.tar.gz StartedAt: 2024-11-20 00:22:11 -0500 (Wed, 20 Nov 2024) EndedAt: 2024-11-20 00:26:55 -0500 (Wed, 20 Nov 2024) EllapsedTime: 283.5 seconds RetCode: 0 Status: OK CheckDir: mslp.Rcheck Warnings: 0