Package: mslp Version: 1.8.0 Command: /Library/Frameworks/R.framework/Resources/bin/R CMD INSTALL mslp StartedAt: 2025-02-03 15:51:43 -0500 (Mon, 03 Feb 2025) EndedAt: 2025-02-03 15:51:54 -0500 (Mon, 03 Feb 2025) EllapsedTime: 11.3 seconds RetCode: 0 Status: OK