Package: mslp Version: 1.8.0 Command: /home/biocbuild/bbs-3.20-bioc/R/bin/R CMD build --keep-empty-dirs --no-resave-data --md5 mslp StartedAt: 2025-02-03 18:22:39 -0500 (Mon, 03 Feb 2025) EndedAt: 2025-02-03 18:23:09 -0500 (Mon, 03 Feb 2025) EllapsedTime: 30.0 seconds RetCode: 0 Status: OK PackageFile: mslp_1.8.0.tar.gz PackageFileSize: 408.8 KiB