Package: mslp Version: 1.8.0 Command: /home/biocbuild/bbs-3.20-bioc/R/bin/R CMD INSTALL mslp StartedAt: 2025-02-03 15:27:59 -0500 (Mon, 03 Feb 2025) EndedAt: 2025-02-03 15:28:01 -0500 (Mon, 03 Feb 2025) EllapsedTime: 2.5 seconds RetCode: 0 Status: OK