Package: msmsEDA Version: 1.44.0 Command: /Library/Frameworks/R.framework/Resources/bin/R CMD INSTALL msmsEDA StartedAt: 2025-02-03 16:55:30 -0500 (Mon, 03 Feb 2025) EndedAt: 2025-02-03 16:56:10 -0500 (Mon, 03 Feb 2025) EllapsedTime: 40.2 seconds RetCode: 0 Status: OK