Package: msmsTests
Version: 1.44.0
Command: /Library/Frameworks/R.framework/Resources/bin/R CMD check --install=check:msmsTests.install-out.txt --library=/Library/Frameworks/R.framework/Resources/library --no-vignettes --timings msmsTests_1.44.0.tar.gz
StartedAt: 2024-11-20 00:22:52 -0500 (Wed, 20 Nov 2024)
EndedAt: 2024-11-20 00:28:47 -0500 (Wed, 20 Nov 2024)
EllapsedTime: 355.1 seconds
RetCode: 0
Status: OK
CheckDir: msmsTests.Rcheck
Warnings: 0