Package: msmsTests Version: 1.44.0 Command: /Library/Frameworks/R.framework/Resources/bin/R CMD check --install=check:msmsTests.install-out.txt --library=/Library/Frameworks/R.framework/Resources/library --no-vignettes --timings msmsTests_1.44.0.tar.gz StartedAt: 2025-02-04 06:53:00 -0500 (Tue, 04 Feb 2025) EndedAt: 2025-02-04 06:59:08 -0500 (Tue, 04 Feb 2025) EllapsedTime: 368.3 seconds RetCode: 0 Status: OK CheckDir: msmsTests.Rcheck Warnings: 0