Package: msmsTests Version: 1.44.0 Command: chmod a+r msmsTests -R && F:\biocbuild\bbs-3.20-bioc\R\bin\R.exe CMD build --keep-empty-dirs --no-resave-data msmsTests StartedAt: 2025-02-03 20:36:24 -0500 (Mon, 03 Feb 2025) EndedAt: 2025-02-03 20:38:04 -0500 (Mon, 03 Feb 2025) EllapsedTime: 99.6 seconds RetCode: 0 Status: OK PackageFile: msmsTests_1.44.0.tar.gz PackageFileSize: 304.6 KiB