Package: msmsTests Version: 1.44.0 Command: /home/biocbuild/R/R/bin/R CMD build --keep-empty-dirs --no-resave-data msmsTests StartedAt: 2025-02-04 01:13:31 -0000 (Tue, 04 Feb 2025) EndedAt: 2025-02-04 01:15:02 -0000 (Tue, 04 Feb 2025) EllapsedTime: 91.0 seconds RetCode: 0 Status: OK PackageFile: msmsTests_1.44.0.tar.gz PackageFileSize: 534.7 KiB