Package: msqrob2 Version: 1.14.1 Command: /Library/Frameworks/R.framework/Resources/bin/R CMD build --keep-empty-dirs --no-resave-data msqrob2 StartedAt: 2025-02-04 04:13:07 -0500 (Tue, 04 Feb 2025) EndedAt: 2025-02-04 04:15:33 -0500 (Tue, 04 Feb 2025) EllapsedTime: 145.1 seconds RetCode: 0 Status: OK PackageFile: msqrob2_1.14.1.tar.gz PackageFileSize: 2.341 MiB