Package: msqrob2 Version: 1.14.1 Command: /Library/Frameworks/R.framework/Resources/bin/R CMD check --install=check:msqrob2.install-out.txt --library=/Library/Frameworks/R.framework/Resources/library --no-vignettes --timings msqrob2_1.14.1.tar.gz StartedAt: 2025-02-05 03:06:01 -0500 (Wed, 05 Feb 2025) EndedAt: 2025-02-05 03:11:07 -0500 (Wed, 05 Feb 2025) EllapsedTime: 306.4 seconds RetCode: 0 Status: OK CheckDir: msqrob2.Rcheck Warnings: 0