Package: msqrob2 Version: 1.14.1 Command: /home/biocbuild/bbs-3.20-bioc/R/bin/R CMD build --keep-empty-dirs --no-resave-data --md5 msqrob2 StartedAt: 2025-02-03 18:23:40 -0500 (Mon, 03 Feb 2025) EndedAt: 2025-02-03 18:25:28 -0500 (Mon, 03 Feb 2025) EllapsedTime: 108.1 seconds RetCode: 0 Status: OK PackageFile: msqrob2_1.14.1.tar.gz PackageFileSize: 2.53 MiB