Package: msqrob2 Version: 1.14.1 Command: /home/biocbuild/R/R/bin/R CMD INSTALL msqrob2 StartedAt: 2025-02-03 20:57:05 -0000 (Mon, 03 Feb 2025) EndedAt: 2025-02-03 20:57:44 -0000 (Mon, 03 Feb 2025) EllapsedTime: 38.9 seconds RetCode: 0 Status: OK