Package: multiClust
Version: 1.36.0
Command: /Library/Frameworks/R.framework/Resources/bin/R CMD INSTALL multiClust
StartedAt: 2025-02-17 17:23:47 -0500 (Mon, 17 Feb 2025)
EndedAt: 2025-02-17 17:23:55 -0500 (Mon, 17 Feb 2025)
EllapsedTime: 8.7 seconds
RetCode: 0
Status: OK