Package: multiClust
Version: 1.36.0
Command: /Library/Frameworks/R.framework/Resources/bin/R CMD INSTALL multiClust
StartedAt: 2024-11-19 15:34:37 -0500 (Tue, 19 Nov 2024)
EndedAt: 2024-11-19 15:34:49 -0500 (Tue, 19 Nov 2024)
EllapsedTime: 11.9 seconds
RetCode: 0
Status: OK