Package: multiClust Version: 1.36.0 Command: /Library/Frameworks/R.framework/Resources/bin/R CMD build --keep-empty-dirs --no-resave-data multiClust StartedAt: 2025-02-03 20:44:17 -0500 (Mon, 03 Feb 2025) EndedAt: 2025-02-03 20:45:25 -0500 (Mon, 03 Feb 2025) EllapsedTime: 67.4 seconds RetCode: 0 Status: OK PackageFile: multiClust_1.36.0.tar.gz PackageFileSize: 3.046 MiB