Package: multiClust Version: 1.36.0 Command: /home/biocbuild/bbs-3.20-bioc/R/bin/R CMD check --install=check:multiClust.install-out.txt --library=/home/biocbuild/bbs-3.20-bioc/R/site-library --timings multiClust_1.36.0.tar.gz StartedAt: 2025-02-18 00:15:53 -0500 (Tue, 18 Feb 2025) EndedAt: 2025-02-18 00:17:07 -0500 (Tue, 18 Feb 2025) EllapsedTime: 74.0 seconds RetCode: 0 Status: OK CheckDir: multiClust.Rcheck Warnings: 0