Package: multiClust Version: 1.36.0 Command: /home/biocbuild/R/R/bin/R CMD build --keep-empty-dirs --no-resave-data multiClust StartedAt: 2025-02-04 01:17:08 -0000 (Tue, 04 Feb 2025) EndedAt: 2025-02-04 01:17:44 -0000 (Tue, 04 Feb 2025) EllapsedTime: 36.0 seconds RetCode: 0 Status: OK PackageFile: multiClust_1.36.0.tar.gz PackageFileSize: 2.967 MiB