Package: multiClust Version: 1.36.0 Command: /home/biocbuild/R/R/bin/R CMD check --install=check:multiClust.install-out.txt --library=/home/biocbuild/R/R/site-library --no-vignettes --timings multiClust_1.36.0.tar.gz StartedAt: 2025-02-04 09:11:46 -0000 (Tue, 04 Feb 2025) EndedAt: 2025-02-04 09:12:55 -0000 (Tue, 04 Feb 2025) EllapsedTime: 69.1 seconds RetCode: 0 Status: OK CheckDir: multiClust.Rcheck Warnings: 0