Package: multiGSEA Version: 1.16.0 Command: /Library/Frameworks/R.framework/Resources/bin/R CMD build --keep-empty-dirs --no-resave-data multiGSEA StartedAt: 2024-11-19 17:49:18 -0500 (Tue, 19 Nov 2024) EndedAt: 2024-11-19 18:19:08 -0500 (Tue, 19 Nov 2024) EllapsedTime: 1789.8 seconds RetCode: 0 Status: OK PackageFile: multiGSEA_1.16.0.tar.gz PackageFileSize: 952.5 KiB