Package: multiGSEA Version: 1.16.2 Command: /home/biocbuild/bbs-3.20-bioc/R/bin/R CMD build --keep-empty-dirs --no-resave-data --md5 multiGSEA StartedAt: 2025-02-17 18:11:58 -0500 (Mon, 17 Feb 2025) EndedAt: 2025-02-17 18:33:52 -0500 (Mon, 17 Feb 2025) EllapsedTime: 1313.8 seconds RetCode: 0 Status: OK PackageFile: multiGSEA_1.16.2.tar.gz PackageFileSize: 954.2 <A href="http://en.wikipedia.org/wiki/KiB" target="_blank">KiB</A>