Package: multiGSEA Version: 1.16.2 Command: /home/biocbuild/bbs-3.20-bioc/R/bin/R CMD check --install=check:multiGSEA.install-out.txt --library=/home/biocbuild/bbs-3.20-bioc/R/site-library --timings multiGSEA_1.16.2.tar.gz StartedAt: 2025-02-04 00:34:14 -0500 (Tue, 04 Feb 2025) EndedAt: 2025-02-04 01:04:57 -0500 (Tue, 04 Feb 2025) EllapsedTime: 1843.5 seconds RetCode: 0 Status: OK CheckDir: multiGSEA.Rcheck Warnings: 0