Package: multiGSEA Version: 1.16.0 Command: /home/biocbuild/bbs-3.20-bioc/R/bin/R CMD INSTALL multiGSEA StartedAt: 2024-11-19 16:48:34 -0500 (Tue, 19 Nov 2024) EndedAt: 2024-11-19 16:49:38 -0500 (Tue, 19 Nov 2024) EllapsedTime: 64.1 seconds RetCode: 0 Status: OK